BEGIN:VCALENDAR
VERSION:2.0
PRODID:-//hacksw/handcal//NONSGML v1.0//EN
BEGIN:VEVENT
SUMMARY:BOUQUET ARGENCES 2026
UID:dab4dc83-047a-423d-87b7-4fa4931d0a73
DTSTART:20260718T220000Z
DTEND:20260719T220000Z
LOCATION:Localisation   
CATEGORIES:Sportif
STATUS:
URL;VALUE=URI:https://archersdebayeux.sportsregions.fr/evenements/2026/07/19/bouquet-argences-2026-2442665
END:VEVENT
END:VCALENDAR
