BEGIN:VCALENDAR
VERSION:2.0
PRODID:-//hacksw/handcal//NONSGML v1.0//EN
BEGIN:VEVENT
SUMMARY:BEURSAULT ARGENCES 2026
UID:189c7351-424d-4730-8943-0ffb52ee12ac
DTSTART:20260717T220000Z
DTEND:20260718T220000Z
LOCATION:Localisation   
CATEGORIES:Sportif
STATUS:
URL;VALUE=URI:https://archersdebayeux.sportsregions.fr/evenements/2026/07/18/beursault-argences-2026-2442670
END:VEVENT
END:VCALENDAR
