BEGIN:VCALENDAR
VERSION:2.0
PRODID:-//hacksw/handcal//NONSGML v1.0//EN
BEGIN:VEVENT
SUMMARY:BEURSAULT ARGENCES 2026
UID:bae58201-b55d-4cd6-a435-f7a8fa182dfe
DTSTART:20260620T220000Z
DTEND:20260621T220000Z
LOCATION:Localisation   
CATEGORIES:Sportif
STATUS:
URL;VALUE=URI:https://archersdebayeux.sportsregions.fr/evenements/2026/06/21/beursault-argences-2026-2442669
END:VEVENT
END:VCALENDAR
