BEGIN:VCALENDAR
VERSION:2.0
PRODID:-//hacksw/handcal//NONSGML v1.0//EN
BEGIN:VEVENT
SUMMARY:TAE COURSEULLES 2026
UID:aaa2d4c6-37bb-43f0-bb80-e297836ca6dd
DTSTART:20260612T220000Z
DTEND:20260614T220000Z
LOCATION:Localisation   
CATEGORIES:Sportif
STATUS:
URL;VALUE=URI:https://archersdebayeux.sportsregions.fr/evenements/2026/06/13/tae-courseulles-2026-2442674
END:VEVENT
END:VCALENDAR
