BEGIN:VCALENDAR
VERSION:2.0
PRODID:-//hacksw/handcal//NONSGML v1.0//EN
BEGIN:VEVENT
SUMMARY:TAE FONTENAY 2026 CD 14
UID:b37b5722-b42d-4642-87be-efdff7b85f75
DTSTART:20260513T220000Z
DTEND:20260514T220000Z
LOCATION:Localisation   
CATEGORIES:Sportif
STATUS:
URL;VALUE=URI:https://archersdebayeux.sportsregions.fr/evenements/2026/05/14/tae-fontenay-2026-cd-14-2442661
END:VEVENT
END:VCALENDAR
