BEGIN:VCALENDAR
VERSION:2.0
PRODID:-//hacksw/handcal//NONSGML v1.0//EN
BEGIN:VEVENT
SUMMARY:TAE BAYEUX 2026
UID:531bd408-df6d-4cbd-9e79-191b2a841dc8
DTSTART:20260508T220000Z
DTEND:20260510T220000Z
LOCATION:Localisation   
CATEGORIES:Sportif
STATUS:
URL;VALUE=URI:https://archersdebayeux.sportsregions.fr/evenements/2026/05/09/tae-bayeux-2026-2442660
END:VEVENT
END:VCALENDAR
